BEGIN:VCALENDAR
PRODID:-//www.undertheradar.co.nz//NONSGML Undertheradar//EN
VERSION:2.0
BEGIN:VEVENT
DESCRIPTION:New Date: Sunday Concert Series: Paul Ubana Jones - Pah Homestead, Auckland
UID:1190175379-76224@undertheradar.co.nz
DTSTAMP:20220123T173000Z
DTSTART:20220123T173000
DTEND:20220123T173059
SUMMARY:New Date: Sunday Concert Series: Paul Ubana Jones
LOCATION:Pah Homestead, Auckland
URL:http://www.undertheradar.co.nz/gig/76224/gig.utr
END:VEVENT
END:VCALENDAR

