BEGIN:VCALENDAR
PRODID:-//www.undertheradar.co.nz//NONSGML Undertheradar//EN
VERSION:2.0
BEGIN:VEVENT
DESCRIPTION:Honeybee EP Release Party - Anthology Lounge, Auckland
UID:1190175379-76480@undertheradar.co.nz
DTSTAMP:20220909T200000Z
DTSTART:20220909T200000
DTEND:20220909T200059
SUMMARY:Honeybee EP Release Party
LOCATION:Anthology Lounge, Auckland
URL:http://www.undertheradar.co.nz/gig/76480/gig.utr
END:VEVENT
END:VCALENDAR

