BEGIN:VCALENDAR
PRODID:-//www.undertheradar.co.nz//NONSGML Undertheradar//EN
VERSION:2.0
BEGIN:VEVENT
DESCRIPTION:Jam Night 2022 - Valhalla, Wellington
UID:1190175379-77641@undertheradar.co.nz
DTSTAMP:20220116T180000Z
DTSTART:20220116T180000
DTEND:20220116T180059
SUMMARY:Jam Night 2022
LOCATION:Valhalla, Wellington
URL:http://www.undertheradar.co.nz/gig/77641/gig.utr
END:VEVENT
END:VCALENDAR

