BEGIN:VCALENDAR
PRODID:-//www.undertheradar.co.nz//NONSGML Undertheradar//EN
VERSION:2.0
BEGIN:VEVENT
DESCRIPTION:Backroom's Back w/ Grecco Romank, Van Staden and Bohm, and more - Whammy Backroom, Auckland
UID:1190175379-77859@undertheradar.co.nz
DTSTAMP:20220122T213000Z
DTSTART:20220122T213000
DTEND:20220122T213059
SUMMARY:Backroom's Back w/ Grecco Romank, Van Staden and Bohm, and more
LOCATION:Whammy Backroom, Auckland
URL:http://www.undertheradar.co.nz/gig/77859/gig.utr
END:VEVENT
END:VCALENDAR

