BEGIN:VCALENDAR
PRODID:-//www.undertheradar.co.nz//NONSGML Undertheradar//EN
VERSION:2.0
BEGIN:VEVENT
DESCRIPTION:Settle Down Sunday Presented By Glass Half Full And Benny Balance - East St. Hall, Auckland
UID:1190175379-77916@undertheradar.co.nz
DTSTAMP:20220619T150000Z
DTSTART:20220619T150000
DTEND:20220619T150059
SUMMARY:Settle Down Sunday Presented By Glass Half Full And Benny Balance
LOCATION:East St. Hall, Auckland
URL:http://www.undertheradar.co.nz/gig/77916/gig.utr
END:VEVENT
END:VCALENDAR

