BEGIN:VCALENDAR
PRODID:-//www.undertheradar.co.nz//NONSGML Undertheradar//EN
VERSION:2.0
BEGIN:VEVENT
DESCRIPTION:Sunset Sessions By Coco House Bros : 011 - Vaiana's 21.3 Beach Bistro, Rarotonga
UID:1190175379-78078@undertheradar.co.nz
DTSTAMP:20220416T130000Z
DTSTART:20220416T130000
DTEND:20220416T130059
SUMMARY:Sunset Sessions By Coco House Bros : 011
LOCATION:Vaiana's 21.3 Beach Bistro, Rarotonga
URL:http://www.undertheradar.co.nz/gig/78078/gig.utr
END:VEVENT
END:VCALENDAR

