BEGIN:VCALENDAR
PRODID:-//www.undertheradar.co.nz//NONSGML Undertheradar//EN
VERSION:2.0
BEGIN:VEVENT
DESCRIPTION:Fork N Funny March - The Tuning Fork, Auckland
UID:1190175379-78255@undertheradar.co.nz
DTSTAMP:20220325T193000Z
DTSTART:20220325T193000
DTEND:20220325T193059
SUMMARY:Fork N Funny March
LOCATION:The Tuning Fork, Auckland
URL:http://www.undertheradar.co.nz/gig/78255/gig.utr
END:VEVENT
END:VCALENDAR

