BEGIN:VCALENDAR
PRODID:-//www.undertheradar.co.nz//NONSGML Undertheradar//EN
VERSION:2.0
BEGIN:VEVENT
DESCRIPTION:Gitbox Rebellion - Kumeu Live (at Kumeu Arts), Kumeu
UID:1190175379-78521@undertheradar.co.nz
DTSTAMP:20220514T193000Z
DTSTART:20220514T193000
DTEND:20220514T193059
SUMMARY:Gitbox Rebellion
LOCATION:Kumeu Live (at Kumeu Arts), Kumeu
URL:http://www.undertheradar.co.nz/gig/78521/gig.utr
END:VEVENT
END:VCALENDAR

