BEGIN:VCALENDAR
PRODID:-//www.undertheradar.co.nz//NONSGML Undertheradar//EN
VERSION:2.0
BEGIN:VEVENT
DESCRIPTION:You Should Be Dancing - Loons, Lyttelton
UID:1190175379-78547@undertheradar.co.nz
DTSTAMP:20220521T200000Z
DTSTART:20220521T200000
DTEND:20220521T200059
SUMMARY:You Should Be Dancing
LOCATION:Loons, Lyttelton
URL:http://www.undertheradar.co.nz/gig/78547/gig.utr
END:VEVENT
END:VCALENDAR

