BEGIN:VCALENDAR
PRODID:-//www.undertheradar.co.nz//NONSGML Undertheradar//EN
VERSION:2.0
BEGIN:VEVENT
DESCRIPTION:Hellbilly Hop: The Southern Diplomats, Louis Jarlov And The Lonesome - The Thirsty Dog, Auckland
UID:1190175379-78583@undertheradar.co.nz
DTSTAMP:20220521T183000Z
DTSTART:20220521T183000
DTEND:20220521T183059
SUMMARY:Hellbilly Hop: The Southern Diplomats, Louis Jarlov And The Lonesome
LOCATION:The Thirsty Dog, Auckland
URL:http://www.undertheradar.co.nz/gig/78583/gig.utr
END:VEVENT
END:VCALENDAR

