BEGIN:VCALENDAR
PRODID:-//www.undertheradar.co.nz//NONSGML Undertheradar//EN
VERSION:2.0
BEGIN:VEVENT
DESCRIPTION:DARTZ (the band from Wellington, New Zealand) - Whammy Bar, Auckland
UID:1190175379-78624@undertheradar.co.nz
DTSTAMP:20220514T203000Z
DTSTART:20220514T203000
DTEND:20220514T203059
SUMMARY:DARTZ (the band from Wellington, New Zealand)
LOCATION:Whammy Bar, Auckland
URL:http://www.undertheradar.co.nz/gig/78624/gig.utr
END:VEVENT
END:VCALENDAR

