BEGIN:VCALENDAR
PRODID:-//www.undertheradar.co.nz//NONSGML Undertheradar//EN
VERSION:2.0
BEGIN:VEVENT
DESCRIPTION:Adam McGrath - The Playhouse Theatre and Restaurant, Mapua
UID:1190175379-78628@undertheradar.co.nz
DTSTAMP:20220513T193000Z
DTSTART:20220513T193000
DTEND:20220513T193059
SUMMARY:Adam McGrath
LOCATION:The Playhouse Theatre and Restaurant, Mapua
URL:http://www.undertheradar.co.nz/gig/78628/gig.utr
END:VEVENT
END:VCALENDAR

