BEGIN:VCALENDAR
PRODID:-//www.undertheradar.co.nz//NONSGML Undertheradar//EN
VERSION:2.0
BEGIN:VEVENT
DESCRIPTION:Cityside After Dark - Cityside Baptist Church, Auckland
UID:1190175379-78881@undertheradar.co.nz
DTSTAMP:20220528T190000Z
DTSTART:20220528T190000
DTEND:20220528T190059
SUMMARY:Cityside After Dark
LOCATION:Cityside Baptist Church, Auckland
URL:http://www.undertheradar.co.nz/gig/78881/gig.utr
END:VEVENT
END:VCALENDAR

