BEGIN:VCALENDAR
PRODID:-//www.undertheradar.co.nz//NONSGML Undertheradar//EN
VERSION:2.0
BEGIN:VEVENT
DESCRIPTION:CMNZ Presents Tararua - Bird Like Men - Q Loft, Auckland
UID:1190175379-78891@undertheradar.co.nz
DTSTAMP:20220723T183000Z
DTSTART:20220723T183000
DTEND:20220723T183059
SUMMARY:CMNZ Presents Tararua - Bird Like Men
LOCATION:Q Loft, Auckland
URL:http://www.undertheradar.co.nz/gig/78891/gig.utr
END:VEVENT
END:VCALENDAR

