BEGIN:VCALENDAR
PRODID:-//www.undertheradar.co.nz//NONSGML Undertheradar//EN
VERSION:2.0
BEGIN:VEVENT
DESCRIPTION:Sandy Mill and The Business with Special Guests Toby And The Rest - Titirangi Theatre, Auckland
UID:1190175379-79102@undertheradar.co.nz
DTSTAMP:20220528T200000Z
DTSTART:20220528T200000
DTEND:20220528T200059
SUMMARY:Sandy Mill and The Business with Special Guests Toby And The Rest
LOCATION:Titirangi Theatre, Auckland
URL:http://www.undertheradar.co.nz/gig/79102/gig.utr
END:VEVENT
END:VCALENDAR

