BEGIN:VCALENDAR
PRODID:-//www.undertheradar.co.nz//NONSGML Undertheradar//EN
VERSION:2.0
BEGIN:VEVENT
DESCRIPTION:Ha The Unclear - Out Of The Water Tour w/ Treenurse _ Soaked Oats - Whammy Bar, Auckland
UID:1190175379-79147@undertheradar.co.nz
DTSTAMP:20220806T203000Z
DTSTART:20220806T203000
DTEND:20220806T203059
SUMMARY:Ha The Unclear - Out Of The Water Tour w/ Treenurse _ Soaked Oats
LOCATION:Whammy Bar, Auckland
URL:http://www.undertheradar.co.nz/gig/79147/gig.utr
END:VEVENT
END:VCALENDAR

