BEGIN:VCALENDAR
PRODID:-//www.undertheradar.co.nz//NONSGML Undertheradar//EN
VERSION:2.0
BEGIN:VEVENT
DESCRIPTION:Te Tīmatanga - Matariki 2022 - Whammy Bar, Auckland
UID:1190175379-79214@undertheradar.co.nz
DTSTAMP:20220624T193000Z
DTSTART:20220624T193000
DTEND:20220624T193059
SUMMARY:Te Tīmatanga - Matariki 2022
LOCATION:Whammy Bar, Auckland
URL:http://www.undertheradar.co.nz/gig/79214/gig.utr
END:VEVENT
END:VCALENDAR

