BEGIN:VCALENDAR
PRODID:-//www.undertheradar.co.nz//NONSGML Undertheradar//EN
VERSION:2.0
BEGIN:VEVENT
DESCRIPTION:Te Karanga ā Hape - 183 k road, Auckland
UID:1190175379-79314@undertheradar.co.nz
DTSTAMP:20220623T170000Z
DTSTART:20220623T170000
DTEND:20220623T170059
SUMMARY:Te Karanga ā Hape
LOCATION:183 k road, Auckland
URL:http://www.undertheradar.co.nz/gig/79314/gig.utr
END:VEVENT
END:VCALENDAR

