BEGIN:VCALENDAR
PRODID:-//www.undertheradar.co.nz//NONSGML Undertheradar//EN
VERSION:2.0
BEGIN:VEVENT
DESCRIPTION:The Ashes Of Dreams - Underground, Auckland
UID:1190175379-79330@undertheradar.co.nz
DTSTAMP:20220715T193000Z
DTSTART:20220715T193000
DTEND:20220715T193059
SUMMARY:The Ashes Of Dreams
LOCATION:Underground, Auckland
URL:http://www.undertheradar.co.nz/gig/79330/gig.utr
END:VEVENT
END:VCALENDAR

