BEGIN:VCALENDAR
PRODID:-//www.undertheradar.co.nz//NONSGML Undertheradar//EN
VERSION:2.0
BEGIN:VEVENT
DESCRIPTION:My Chemical Romance - Western Springs, Auckland
UID:1190175379-79406@undertheradar.co.nz
DTSTAMP:20230311T190000Z
DTSTART:20230311T190000
DTEND:20230311T190059
SUMMARY:My Chemical Romance
LOCATION:Western Springs, Auckland
URL:http://www.undertheradar.co.nz/gig/79406/gig.utr
END:VEVENT
END:VCALENDAR

