BEGIN:VCALENDAR
PRODID:-//www.undertheradar.co.nz//NONSGML Undertheradar//EN
VERSION:2.0
BEGIN:VEVENT
DESCRIPTION:Simona Smirnova - Bird Language (Lithuania/NYC) - Audio Foundation, Auckland
UID:1190175379-79530@undertheradar.co.nz
DTSTAMP:20220722T194500Z
DTSTART:20220722T194500
DTEND:20220722T194559
SUMMARY:Simona Smirnova - Bird Language (Lithuania/NYC)
LOCATION:Audio Foundation, Auckland
URL:http://www.undertheradar.co.nz/gig/79530/gig.utr
END:VEVENT
END:VCALENDAR

