BEGIN:VCALENDAR
PRODID:-//www.undertheradar.co.nz//NONSGML Undertheradar//EN
VERSION:2.0
BEGIN:VEVENT
DESCRIPTION:Swampland and Wavepig Meet Again... - The Butter Factory, Whangarei
UID:1190175379-79830@undertheradar.co.nz
DTSTAMP:20220716T200000Z
DTSTART:20220716T200000
DTEND:20220716T200059
SUMMARY:Swampland and Wavepig Meet Again...
LOCATION:The Butter Factory, Whangarei
URL:http://www.undertheradar.co.nz/gig/79830/gig.utr
END:VEVENT
END:VCALENDAR

