BEGIN:VCALENDAR
PRODID:-//www.undertheradar.co.nz//NONSGML Undertheradar//EN
VERSION:2.0
BEGIN:VEVENT
DESCRIPTION:Failey Old - 18,250 Of The Extremely Awful - Valhalla, Wellington
UID:1190175379-79841@undertheradar.co.nz
DTSTAMP:20220820T200000Z
DTSTART:20220820T200000
DTEND:20220820T200059
SUMMARY:Failey Old - 18,250 Of The Extremely Awful
LOCATION:Valhalla, Wellington
URL:http://www.undertheradar.co.nz/gig/79841/gig.utr
END:VEVENT
END:VCALENDAR

