BEGIN:VCALENDAR
PRODID:-//www.undertheradar.co.nz//NONSGML Undertheradar//EN
VERSION:2.0
BEGIN:VEVENT
DESCRIPTION:Glass Half Full Issue 03 // Ft. Clay Louis, Andwahn and more - Il Brutto, Auckland
UID:1190175379-79876@undertheradar.co.nz
DTSTAMP:20220806T213000Z
DTSTART:20220806T213000
DTEND:20220806T213059
SUMMARY:Glass Half Full Issue 03 // Ft. Clay Louis, Andwahn and more
LOCATION:Il Brutto, Auckland
URL:http://www.undertheradar.co.nz/gig/79876/gig.utr
END:VEVENT
END:VCALENDAR

