BEGIN:VCALENDAR
PRODID:-//www.undertheradar.co.nz//NONSGML Undertheradar//EN
VERSION:2.0
BEGIN:VEVENT
DESCRIPTION:Yggdrasil (Faroe Islands) - Pyramid Club, Wellington
UID:1190175379-79965@undertheradar.co.nz
DTSTAMP:20220901T200000Z
DTSTART:20220901T200000
DTEND:20220901T200059
SUMMARY:Yggdrasil (Faroe Islands)
LOCATION:Pyramid Club, Wellington
URL:http://www.undertheradar.co.nz/gig/79965/gig.utr
END:VEVENT
END:VCALENDAR

