BEGIN:VCALENDAR
PRODID:-//www.undertheradar.co.nz//NONSGML Undertheradar//EN
VERSION:2.0
BEGIN:VEVENT
DESCRIPTION:Delaney Davidson: An Intimate Concert - {Suite} Gallery, Wellington
UID:1190175379-80002@undertheradar.co.nz
DTSTAMP:20220909T193000Z
DTSTART:20220909T193000
DTEND:20220909T193059
SUMMARY:Delaney Davidson: An Intimate Concert
LOCATION:{Suite} Gallery, Wellington
URL:http://www.undertheradar.co.nz/gig/80002/gig.utr
END:VEVENT
END:VCALENDAR

