BEGIN:VCALENDAR
PRODID:-//www.undertheradar.co.nz//NONSGML Undertheradar//EN
VERSION:2.0
BEGIN:VEVENT
DESCRIPTION:Nuggiez + Venom Dolls + Dog Box + The Bridesmaids - The Thirsty Dog, Auckland
UID:1190175379-80051@undertheradar.co.nz
DTSTAMP:20220806T190000Z
DTSTART:20220806T190000
DTEND:20220806T190059
SUMMARY:Nuggiez + Venom Dolls + Dog Box + The Bridesmaids
LOCATION:The Thirsty Dog, Auckland
URL:http://www.undertheradar.co.nz/gig/80051/gig.utr
END:VEVENT
END:VCALENDAR

