BEGIN:VCALENDAR
PRODID:-//www.undertheradar.co.nz//NONSGML Undertheradar//EN
VERSION:2.0
BEGIN:VEVENT
DESCRIPTION:Back To Black : A Celebration Of Amy Winehouse - The Powerstation, Auckland
UID:1190175379-80191@undertheradar.co.nz
DTSTAMP:20220916T200000Z
DTSTART:20220916T200000
DTEND:20220916T200059
SUMMARY:Back To Black : A Celebration Of Amy Winehouse
LOCATION:The Powerstation, Auckland
URL:http://www.undertheradar.co.nz/gig/80191/gig.utr
END:VEVENT
END:VCALENDAR

