BEGIN:VCALENDAR
PRODID:-//www.undertheradar.co.nz//NONSGML Undertheradar//EN
VERSION:2.0
BEGIN:VEVENT
DESCRIPTION:Peaches - Meow, Wellington
UID:1190175379-81435@undertheradar.co.nz
DTSTAMP:20230222T200000Z
DTSTART:20230222T200000
DTEND:20230222T200059
SUMMARY:Peaches
LOCATION:Meow, Wellington
URL:http://www.undertheradar.co.nz/gig/81435/gig.utr
END:VEVENT
END:VCALENDAR

