BEGIN:VCALENDAR
PRODID:-//www.undertheradar.co.nz//NONSGML Undertheradar//EN
VERSION:2.0
BEGIN:VEVENT
DESCRIPTION:Glass Half Full Presents Peaky Beats (live) (UK) - Whammy Backroom, Auckland
UID:1190175379-82498@undertheradar.co.nz
DTSTAMP:20230218T220000Z
DTSTART:20230218T220000
DTEND:20230218T220059
SUMMARY:Glass Half Full Presents Peaky Beats (live) (UK)
LOCATION:Whammy Backroom, Auckland
URL:http://www.undertheradar.co.nz/gig/82498/gig.utr
END:VEVENT
END:VCALENDAR

