BEGIN:VCALENDAR
PRODID:-//www.undertheradar.co.nz//NONSGML Undertheradar//EN
VERSION:2.0
BEGIN:VEVENT
DESCRIPTION:Proteins Of Magic ~ The Divine Physics Tour - Meow, Wellington
UID:1190175379-82577@undertheradar.co.nz
DTSTAMP:20230218T200000Z
DTSTART:20230218T200000
DTEND:20230218T200059
SUMMARY:Proteins Of Magic ~ The Divine Physics Tour
LOCATION:Meow, Wellington
URL:http://www.undertheradar.co.nz/gig/82577/gig.utr
END:VEVENT
END:VCALENDAR

