BEGIN:VCALENDAR
PRODID:-//www.undertheradar.co.nz//NONSGML Undertheradar//EN
VERSION:2.0
BEGIN:VEVENT
DESCRIPTION:Grecco Romank - Wet Exit Album Release Tour - Las Vegas Club, Auckland
UID:1190175379-82927@undertheradar.co.nz
DTSTAMP:20230414T200000Z
DTSTART:20230414T200000
DTEND:20230414T200059
SUMMARY:Grecco Romank - Wet Exit Album Release Tour
LOCATION:Las Vegas Club, Auckland
URL:http://www.undertheradar.co.nz/gig/82927/gig.utr
END:VEVENT
END:VCALENDAR

