BEGIN:VCALENDAR
PRODID:-//www.undertheradar.co.nz//NONSGML Undertheradar//EN
VERSION:2.0
BEGIN:VEVENT
DESCRIPTION:The Flow Collective: Flow Album Tour Raglan - The Yard Cafe  Venue, Raglan
UID:1190175379-83836@undertheradar.co.nz
DTSTAMP:20230604T190000Z
DTSTART:20230604T190000
DTEND:20230604T190059
SUMMARY:The Flow Collective: Flow Album Tour Raglan
LOCATION:The Yard Cafe  Venue, Raglan
URL:http://www.undertheradar.co.nz/gig/83836/gig.utr
END:VEVENT
END:VCALENDAR

