BEGIN:VCALENDAR
PRODID:-//www.undertheradar.co.nz//NONSGML Undertheradar//EN
VERSION:2.0
BEGIN:VEVENT
DESCRIPTION:Dollhouse Vol.3 - Neck of the Woods, Auckland
UID:1190175379-83853@undertheradar.co.nz
DTSTAMP:20230428T220000Z
DTSTART:20230428T220000
DTEND:20230428T220059
SUMMARY:Dollhouse Vol.3
LOCATION:Neck of the Woods, Auckland
URL:http://www.undertheradar.co.nz/gig/83853/gig.utr
END:VEVENT
END:VCALENDAR

