BEGIN:VCALENDAR
PRODID:-//www.undertheradar.co.nz//NONSGML Undertheradar//EN
VERSION:2.0
BEGIN:VEVENT
DESCRIPTION:Frank John And Erin Manu - Cityside Baptist Church, Auckland
UID:1190175379-83877@undertheradar.co.nz
DTSTAMP:20230510T190000Z
DTSTART:20230510T190000
DTEND:20230510T190059
SUMMARY:Frank John And Erin Manu
LOCATION:Cityside Baptist Church, Auckland
URL:http://www.undertheradar.co.nz/gig/83877/gig.utr
END:VEVENT
END:VCALENDAR

