BEGIN:VCALENDAR
PRODID:-//www.undertheradar.co.nz//NONSGML Undertheradar//EN
VERSION:2.0
BEGIN:VEVENT
DESCRIPTION:Lea Bertucci (Nyc) With Motte - Audio Foundation, Auckland
UID:1190175379-83986@undertheradar.co.nz
DTSTAMP:20230527T194500Z
DTSTART:20230527T194500
DTEND:20230527T194559
SUMMARY:Lea Bertucci (Nyc) With Motte
LOCATION:Audio Foundation, Auckland
URL:http://www.undertheradar.co.nz/gig/83986/gig.utr
END:VEVENT
END:VCALENDAR

