BEGIN:VCALENDAR
PRODID:-//www.undertheradar.co.nz//NONSGML Undertheradar//EN
VERSION:2.0
BEGIN:VEVENT
DESCRIPTION:Copa909 Tools EP Release Party Presented By Glass Half Full - Il Brutto, Auckland
UID:1190175379-84047@undertheradar.co.nz
DTSTAMP:20230519T220000Z
DTSTART:20230519T220000
DTEND:20230519T220059
SUMMARY:Copa909 Tools EP Release Party Presented By Glass Half Full
LOCATION:Il Brutto, Auckland
URL:http://www.undertheradar.co.nz/gig/84047/gig.utr
END:VEVENT
END:VCALENDAR

