BEGIN:VCALENDAR
PRODID:-//www.undertheradar.co.nz//NONSGML Undertheradar//EN
VERSION:2.0
BEGIN:VEVENT
DESCRIPTION:Get Comfy 2023 - Mental Health Awareness Festival - Pipitea Marae, Wellington
UID:1190175379-84185@undertheradar.co.nz
DTSTAMP:20230923T120000Z
DTSTART:20230923T120000
DTEND:20230923T120059
SUMMARY:Get Comfy 2023 - Mental Health Awareness Festival
LOCATION:Pipitea Marae, Wellington
URL:http://www.undertheradar.co.nz/gig/84185/gig.utr
END:VEVENT
END:VCALENDAR

