BEGIN:VCALENDAR
PRODID:-//www.undertheradar.co.nz//NONSGML Undertheradar//EN
VERSION:2.0
BEGIN:VEVENT
DESCRIPTION:Hans Pucket - NO DRAMA - Nationwide Tour - The Wine Cellar, Auckland
UID:1190175379-84308@undertheradar.co.nz
DTSTAMP:20230728T200000Z
DTSTART:20230728T200000
DTEND:20230728T200059
SUMMARY:Hans Pucket - NO DRAMA - Nationwide Tour
LOCATION:The Wine Cellar, Auckland
URL:http://www.undertheradar.co.nz/gig/84308/gig.utr
END:VEVENT
END:VCALENDAR

