BEGIN:VCALENDAR
PRODID:-//www.undertheradar.co.nz//NONSGML Undertheradar//EN
VERSION:2.0
BEGIN:VEVENT
DESCRIPTION:Glass Half Full Issue 004 - Il Brutto, Auckland
UID:1190175379-85297@undertheradar.co.nz
DTSTAMP:20230818T213000Z
DTSTART:20230818T213000
DTEND:20230818T213059
SUMMARY:Glass Half Full Issue 004
LOCATION:Il Brutto, Auckland
URL:http://www.undertheradar.co.nz/gig/85297/gig.utr
END:VEVENT
END:VCALENDAR

