BEGIN:VCALENDAR
PRODID:-//www.undertheradar.co.nz//NONSGML Undertheradar//EN
VERSION:2.0
BEGIN:VEVENT
DESCRIPTION:Lake South + Welcomer - Welsh Dragon Bar, Wellington
UID:1190175379-85453@undertheradar.co.nz
DTSTAMP:20230922T193000Z
DTSTART:20230922T193000
DTEND:20230922T193059
SUMMARY:Lake South + Welcomer
LOCATION:Welsh Dragon Bar, Wellington
URL:http://www.undertheradar.co.nz/gig/85453/gig.utr
END:VEVENT
END:VCALENDAR

