BEGIN:VCALENDAR
PRODID:-//www.undertheradar.co.nz//NONSGML Undertheradar//EN
VERSION:2.0
BEGIN:VEVENT
DESCRIPTION:Pocket Money - 'Get Out' Single Release (All Ages) - Grey Lynn Library Hall, Auckland
UID:1190175379-85462@undertheradar.co.nz
DTSTAMP:20230819T190000Z
DTSTART:20230819T190000
DTEND:20230819T190059
SUMMARY:Pocket Money - 'Get Out' Single Release (All Ages)
LOCATION:Grey Lynn Library Hall, Auckland
URL:http://www.undertheradar.co.nz/gig/85462/gig.utr
END:VEVENT
END:VCALENDAR

