BEGIN:VCALENDAR
PRODID:-//www.undertheradar.co.nz//NONSGML Undertheradar//EN
VERSION:2.0
BEGIN:VEVENT
DESCRIPTION:Phoebe Rings + Geoff Ong - Ponsonby Social Club, Auckland
UID:1190175379-86206@undertheradar.co.nz
DTSTAMP:20231028T190000Z
DTSTART:20231028T190000
DTEND:20231028T190059
SUMMARY:Phoebe Rings + Geoff Ong
LOCATION:Ponsonby Social Club, Auckland
URL:http://www.undertheradar.co.nz/gig/86206/gig.utr
END:VEVENT
END:VCALENDAR

