BEGIN:VCALENDAR
PRODID:-//www.undertheradar.co.nz//NONSGML Undertheradar//EN
VERSION:2.0
BEGIN:VEVENT
DESCRIPTION:Pink Floyd: Dark Side Of The Moon | 50th Anniversary Show - Stardome Observatory  Planetarium, Auckland
UID:1190175379-86207@undertheradar.co.nz
DTSTAMP:20230928T200000Z
DTSTART:20230928T200000
DTEND:20230928T200059
SUMMARY:Pink Floyd: Dark Side Of The Moon | 50th Anniversary Show
LOCATION:Stardome Observatory  Planetarium, Auckland
URL:http://www.undertheradar.co.nz/gig/86207/gig.utr
END:VEVENT
END:VCALENDAR

