BEGIN:VCALENDAR
PRODID:-//www.undertheradar.co.nz//NONSGML Undertheradar//EN
VERSION:2.0
BEGIN:VEVENT
DESCRIPTION:Sick Of It All (usa) w/ Drop Off Point, Amanaki _ VILE - Galatos, Auckland
UID:1190175379-86294@undertheradar.co.nz
DTSTAMP:20240205T200000Z
DTSTART:20240205T200000
DTEND:20240205T200059
SUMMARY:Sick Of It All (usa) w/ Drop Off Point, Amanaki _ VILE
LOCATION:Galatos, Auckland
URL:http://www.undertheradar.co.nz/gig/86294/gig.utr
END:VEVENT
END:VCALENDAR

