BEGIN:VCALENDAR
PRODID:-//www.undertheradar.co.nz//NONSGML Undertheradar//EN
VERSION:2.0
BEGIN:VEVENT
DESCRIPTION:Captain Festus Mcboyle's Pre-Christmas Family Variety Show - Playhouse Theatre, Auckland
UID:1190175379-86352@undertheradar.co.nz
DTSTAMP:20231111T110000Z
DTSTART:20231111T110000
DTEND:20231111T110059
SUMMARY:Captain Festus Mcboyle's Pre-Christmas Family Variety Show
LOCATION:Playhouse Theatre, Auckland
URL:http://www.undertheradar.co.nz/gig/86352/gig.utr
END:VEVENT
END:VCALENDAR

