BEGIN:VCALENDAR
PRODID:-//www.undertheradar.co.nz//NONSGML Undertheradar//EN
VERSION:2.0
BEGIN:VEVENT
DESCRIPTION:Mean As Thursdays 3 - Ding Dong Lounge, Auckland
UID:1190175379-86441@undertheradar.co.nz
DTSTAMP:20231005T190000Z
DTSTART:20231005T190000
DTEND:20231005T190059
SUMMARY:Mean As Thursdays 3
LOCATION:Ding Dong Lounge, Auckland
URL:http://www.undertheradar.co.nz/gig/86441/gig.utr
END:VEVENT
END:VCALENDAR

