BEGIN:VCALENDAR
PRODID:-//www.undertheradar.co.nz//NONSGML Undertheradar//EN
VERSION:2.0
BEGIN:VEVENT
DESCRIPTION:Jazz Fest 2023 - Thistle Inn, Wellington
UID:1190175379-86452@undertheradar.co.nz
DTSTAMP:20231025T184500Z
DTSTART:20231025T184500
DTEND:20231025T184559
SUMMARY:Jazz Fest 2023
LOCATION:Thistle Inn, Wellington
URL:http://www.undertheradar.co.nz/gig/86452/gig.utr
END:VEVENT
END:VCALENDAR

