BEGIN:VCALENDAR
PRODID:-//www.undertheradar.co.nz//NONSGML Undertheradar//EN
VERSION:2.0
BEGIN:VEVENT
DESCRIPTION:Sunday Matinee With The Bobby Holidays - The Tahi Bar, Warkworth
UID:1190175379-86457@undertheradar.co.nz
DTSTAMP:20231022T153000Z
DTSTART:20231022T153000
DTEND:20231022T153059
SUMMARY:Sunday Matinee With The Bobby Holidays
LOCATION:The Tahi Bar, Warkworth
URL:http://www.undertheradar.co.nz/gig/86457/gig.utr
END:VEVENT
END:VCALENDAR

