BEGIN:VCALENDAR
PRODID:-//www.undertheradar.co.nz//NONSGML Undertheradar//EN
VERSION:2.0
BEGIN:VEVENT
DESCRIPTION:Xile New Zealand Tour 23 - Whammy Bar, Auckland
UID:1190175379-86473@undertheradar.co.nz
DTSTAMP:20231202T200000Z
DTSTART:20231202T200000
DTEND:20231202T200059
SUMMARY:Xile New Zealand Tour 23
LOCATION:Whammy Bar, Auckland
URL:http://www.undertheradar.co.nz/gig/86473/gig.utr
END:VEVENT
END:VCALENDAR

